BEGIN:VCALENDAR
VERSION:2.0
PRODID:-//Total Strength Fitness - ECPv6.15.20//NONSGML v1.0//EN
CALSCALE:GREGORIAN
METHOD:PUBLISH
X-ORIGINAL-URL:https://www.totalstrengthfitness.com
X-WR-CALDESC:Events for Total Strength Fitness
REFRESH-INTERVAL;VALUE=DURATION:PT1H
X-Robots-Tag:noindex
X-PUBLISHED-TTL:PT1H
BEGIN:VTIMEZONE
TZID:America/Chicago
BEGIN:DAYLIGHT
TZOFFSETFROM:-0600
TZOFFSETTO:-0500
TZNAME:CDT
DTSTART:20240310T080000
END:DAYLIGHT
BEGIN:STANDARD
TZOFFSETFROM:-0500
TZOFFSETTO:-0600
TZNAME:CST
DTSTART:20241103T070000
END:STANDARD
BEGIN:DAYLIGHT
TZOFFSETFROM:-0600
TZOFFSETTO:-0500
TZNAME:CDT
DTSTART:20250309T080000
END:DAYLIGHT
BEGIN:STANDARD
TZOFFSETFROM:-0500
TZOFFSETTO:-0600
TZNAME:CST
DTSTART:20251102T070000
END:STANDARD
BEGIN:DAYLIGHT
TZOFFSETFROM:-0600
TZOFFSETTO:-0500
TZNAME:CDT
DTSTART:20260308T080000
END:DAYLIGHT
BEGIN:STANDARD
TZOFFSETFROM:-0500
TZOFFSETTO:-0600
TZNAME:CST
DTSTART:20261101T070000
END:STANDARD
END:VTIMEZONE
BEGIN:VEVENT
DTSTART;TZID=America/Chicago:20251206T090000
DTEND;TZID=America/Chicago:20251206T110000
DTSTAMP:20260420T225937
CREATED:20161108T223548Z
LAST-MODIFIED:20251112T124137Z
UID:656-1765011600-1765018800@www.totalstrengthfitness.com
SUMMARY:Jolly Jingle Jog (5K Fun Run)
DESCRIPTION:The Jolly Jingle Jog is ahead!\n\n\n\n\n\n\n\n\n\n\n\n\n\n\n\n\n\n\n\nREGISTER HERE! \n\n\n\nTotal Strength Fitness is hosting its TENTH annual JOLLY JINGLE JOG 5K fun run on Saturday\, December 6th\, 2025. The pancake breakfast is back\, so we will be running to Our Father’s Lutheran Church\, so we can refuel with pancakes! See below for more details about the pancake breakfast. \n\n\n\nThe Jolly Jingle Jog is a FREE event\, however\, we ask that you bring a grocery bag filled with food or personal items for our neighbors in need.   \n\n\n\nThe Jolly Jingle Jog will take place Saturday\, December 6th as part of Rockford\, MN’s annual Crow River Christmas celebration. The fun run starts at 9:00\, but come as early as 8:30 for same day registration\, check-in\, drop off your donation\, and  enjoy some Christmas music and a warm fire! \n\n\n\n\nPlease register before Saturday\, December 6th\, 2025!\n\n\n\nCheck-in begins at 8:30 a.m.\n\n\n\nPick up your 2025 Jolly Jingle Jog Christmas ornament\n\n\n\nBring a bag of groceries for RiverWorks Food Shelf\n\n\n\nThe run will begin at 9:00 a.m.\n\n\n\nStart location: Riverside Park in Rockford.  Here is a map of the 5K course.\n\n\n\nFinish location: Our Father’s Lutheran Church 3903 Gilbert Avenue SE in Rockford.\n\n\n\nEach participant will be provided their own sealed bottled water after crossing the finish line.\n\n\n\n\nREGISTER HERE! \n\n\n\nBring a donation for Rockford’s RiverWorks Foodshelf as your entry fee. \n\n\n\nThank you for supporting our community and for staying active throughout the holidays! \n\n\n\n\n\nThe route is set! Here is the link to take a look at how we will be getting to our pancake breakfast this year! We will be doing a 5K distance\, but we aren’t an official course. We are just looking to stay active and healthy through the holidays\, and running a 5K is a great way to do that!  \n\n\n\nThere will be no fee to participate in our Jolly Jingle Jog\, as it is not meant to be a race\, but rather a time to get together with other friends who enjoy moving on our own two feet. However\, we do ask that you bring a bag of groceries for the RiverWorks Food Shelf to help our neighbors in need. Key items needed by the food shelf are (this list will be updated for 2025 when available): \n\n\n\nFOOD ITEMS \n\n\n\nGrains – CEREAL\, Pasta \n\n\n\nFruit & Veggies – Mandarin Oranges\, Pineapple\, Peas \n\n\n\nBaking Items – Sugar\, Flour\, Oil\, Sweetened Condensed Milk \n\n\n\nProteins – Canned Tuna\, Spam\, Creamy Peanut Butter \n\n\n\nCondiments – Mayo\, Pickles\, Salad Dressings\, \n\n\n\nPantry Items – Hearty Soups\, Cream of Chicken Soup\, Pasta Sides\, Rice Sides\, Baked Beans \n\n\n\nSnacks – School snacks for Kids\, Crackers \n\n\n\nBirthday Shelf – Brownie Mix\, Cake Mix\, Frosting \n\n\n\nPERSONAL ITEMS \n\n\n\nKleenex \n\n\n\nLotion – Body & Face \n\n\n\nLaundry Detergent \n\n\n\nDish Soap \n\n\n\nDiapers – Size 4\, 5\, 6 \n\n\n\nBaby Wipes \n\n\n\nThe Pancake Breakfast is Back! \n\n\n\nOnce again\, Our Father’s Lutheran Church has stepped up to provide us runners (and anyone who participates in the Crow River Christmas celebration) with an awesome pancake breakfast! If you weren’t feeling too motivated before\, you certainly must be psyched to run\, now! The pancake breakfast is $5. If you would like to not worry about carrying money with you while you run\, here is a link to pre-pay for your pancake breakfast!  What a great idea – thanks to Our Father’s Lutheran Church for making it easy for us! \n\n\n\nREGISTER HERE!\n\n\n\nFREE JOLLY JINGLE JOG GIFT FOR THE FIRST 100 TO REGISTER! This year we have another super cute commemorative Christmas ornament as a reminder of how fun it is to celebrate Christmas while also staying healthy and active! Supplies limited. Register soon to be guaranteed an ornament. \n\n\n\nHere is the 2025 Tenth Annual Jolly Jingle Jog ornament! \n\n\n\n \n\n\n\nHere is the 2024 Jolly Jingle Jog Christmas ornament!  \n\n\n\n\n\n\n\nThis is the 2023 Jolly Jingle Jog ornament. Pretty cut\, huh?  \n\n\n\n\n\n\n\nHere is 2022’s Jolly Jingle Jog Christmas ornament!  \n\n\n\n   \n\n\n\n Here is 2021’s Jolly Jingle Jog Christmas ornament!  \n\n\n\n  \n\n\n\nBelow is the 2020 Jolly Jingle Jog Christmas tree ornament. This year’s ornament will be posted soon! \n\n\n\n\n\n\n\nLOOK WHAT THE JOLLY JINGLE JOG RUNNERS DONATED IN 2020!\n\n\n\n2020 Jolly Jingle Jog Donations to RiverWorks Food Shelf\n\n\n\n\n\n\n\n\n\n\n\n\n\n\n\n\n\nRIVERWORKS FOOD SHELF DONATION SUGGESTIONS: \n\n\n\nFood Items \n\n\n\n\nSnack Crackers\n\n\n\nChips\n\n\n\nFruit Snacks\n\n\n\nBeef Sticks\n\n\n\nHot Cocoa\n\n\n\nChocolate Chips\n\n\n\nBrown Sugar\n\n\n\nButterscotch Chips\n\n\n\nHershey’s Kisses\n\n\n\nMiracle Whip\n\n\n\nMayo (smaller sizes)\n\n\n\n\nPersonal Items \n\n\n\n\nKleenex\n\n\n\nDiapers\n\n\n\nLotion\n\n\n\nDeodorant\n\n\n\n\nThank you for your kindness and generosity toward your neighbors in need. \n\n\n\n2019 Jolly Jingle Jog Head Band \n\n\n\n\n\n\n\n2018 Jolly Jingle Jog Buff \n\n\n\nThe 2018 Jolly Jingle Jog Buff!\n\n\n\n\n\n\n\nThe 2017 Jolly Jingle Jog Buff! \n\n\n\nThank you for supporting our local food shelf! \n\n\n\n2023 Jolly Jingle Jog Pictures:
URL:https://www.totalstrengthfitness.com/event/jolly-jingle-jog-5k-fun-run/
LOCATION:Riverside Park\, Rockford\, MN\, 55373\, United States
CATEGORIES:For the Body,For the Mind
ATTACH;FMTTYPE=image/jpeg:https://www.totalstrengthfitness.com/wp-content/uploads/jolly-jingle-jog-Finish-Line-2020-1.jpg
END:VEVENT
END:VCALENDAR